BEGIN:VCALENDAR
VERSION:2.0
PRODID:-//hacksw/handcal//NONSGML v1.0//EN
CALSCALE:GREGORIAN
X-WR-TIMEZONE:Europe/Vienna
BEGIN:VEVENT
DESCRIPTION:Infostand des Roten Kreuzes
DTSTART:20260508T140000
DTEND:20260508T180000
URL;VALUE=URI:https://www.maxcenter.at/de/events/infostand-rotes-kreuz/2026-05-08
SUMMARY:Infostand des Roten Kreuzes
DTSTAMP:20260420T095609
UID:69e5f8395b20a
END:VEVENT
END:VCALENDAR