BEGIN:VCALENDAR
VERSION:2.0
PRODID:-//hacksw/handcal//NONSGML v1.0//EN
CALSCALE:GREGORIAN
X-WR-TIMEZONE:Europe/Vienna
BEGIN:VEVENT
DESCRIPTION:Muttertagsbasteln
DTSTART:20260509T103000
DTEND:20260509T160000
URL;VALUE=URI:https://www.maxcenter.at/de/events/muttertagsbasteln/2026-05-09
SUMMARY:Muttertagsbasteln
DTSTAMP:20260420T174152
UID:69e665608b8ca
END:VEVENT
END:VCALENDAR